BEGIN:VCALENDAR
VERSION:2.0
PRODID:-//Carpe Global - ECPv6.15.20//NONSGML v1.0//EN
CALSCALE:GREGORIAN
METHOD:PUBLISH
X-ORIGINAL-URL:https://www.carpeglobal.com
X-WR-CALDESC:Events for Carpe Global
REFRESH-INTERVAL;VALUE=DURATION:PT1H
X-Robots-Tag:noindex
X-PUBLISHED-TTL:PT1H
BEGIN:VTIMEZONE
TZID:America/New_York
BEGIN:DAYLIGHT
TZOFFSETFROM:-0500
TZOFFSETTO:-0400
TZNAME:EDT
DTSTART:20250309T070000
END:DAYLIGHT
BEGIN:STANDARD
TZOFFSETFROM:-0400
TZOFFSETTO:-0500
TZNAME:EST
DTSTART:20251102T060000
END:STANDARD
BEGIN:DAYLIGHT
TZOFFSETFROM:-0500
TZOFFSETTO:-0400
TZNAME:EDT
DTSTART:20260308T070000
END:DAYLIGHT
BEGIN:STANDARD
TZOFFSETFROM:-0400
TZOFFSETTO:-0500
TZNAME:EST
DTSTART:20261101T060000
END:STANDARD
BEGIN:DAYLIGHT
TZOFFSETFROM:-0500
TZOFFSETTO:-0400
TZNAME:EDT
DTSTART:20270314T070000
END:DAYLIGHT
BEGIN:STANDARD
TZOFFSETFROM:-0400
TZOFFSETTO:-0500
TZNAME:EST
DTSTART:20271107T060000
END:STANDARD
END:VTIMEZONE
BEGIN:VEVENT
DTSTART;VALUE=DATE:20260422
DTEND;VALUE=DATE:20260705
DTSTAMP:20260424T051524
CREATED:20200704T200919Z
LAST-MODIFIED:20200704T200919Z
UID:19046-1776816000-1783209599@www.carpeglobal.com
SUMMARY:International Mother Earth Day
DESCRIPTION:This International Day is a call to action for us to take care of Mother Nature. Climate change and man-mad changes are having a hugely negative effect on our planet and we need to be doing everything we can to protect human\, animal\, and environmental health.
URL:https://www.carpeglobal.com/event/international-mother-earth-day/2026-04-22/
CATEGORIES:Celebration,Educational Events,Global/International Education,UN International Day
END:VEVENT
END:VCALENDAR