BEGIN:VCALENDAR
VERSION:2.0
PRODID:-//Carpe Global - ECPv6.15.20//NONSGML v1.0//EN
CALSCALE:GREGORIAN
METHOD:PUBLISH
X-ORIGINAL-URL:https://www.carpeglobal.com
X-WR-CALDESC:Events for Carpe Global
REFRESH-INTERVAL;VALUE=DURATION:PT1H
X-Robots-Tag:noindex
X-PUBLISHED-TTL:PT1H
BEGIN:VTIMEZONE
TZID:America/New_York
BEGIN:DAYLIGHT
TZOFFSETFROM:-0500
TZOFFSETTO:-0400
TZNAME:EDT
DTSTART:20250309T070000
END:DAYLIGHT
BEGIN:STANDARD
TZOFFSETFROM:-0400
TZOFFSETTO:-0500
TZNAME:EST
DTSTART:20251102T060000
END:STANDARD
BEGIN:DAYLIGHT
TZOFFSETFROM:-0500
TZOFFSETTO:-0400
TZNAME:EDT
DTSTART:20260308T070000
END:DAYLIGHT
BEGIN:STANDARD
TZOFFSETFROM:-0400
TZOFFSETTO:-0500
TZNAME:EST
DTSTART:20261101T060000
END:STANDARD
BEGIN:DAYLIGHT
TZOFFSETFROM:-0500
TZOFFSETTO:-0400
TZNAME:EDT
DTSTART:20270314T070000
END:DAYLIGHT
BEGIN:STANDARD
TZOFFSETFROM:-0400
TZOFFSETTO:-0500
TZNAME:EST
DTSTART:20271107T060000
END:STANDARD
END:VTIMEZONE
BEGIN:VEVENT
DTSTART;VALUE=DATE:20260420
DTEND;VALUE=DATE:20260421
DTSTAMP:20260419T175334
CREATED:20200704T184346Z
LAST-MODIFIED:20200704T184346Z
UID:19044-1776643200-1776729599@www.carpeglobal.com
SUMMARY:Chinese Language Day
DESCRIPTION:
URL:https://www.carpeglobal.com/event/chinese-language-day/2026-04-20/
CATEGORIES:Celebration,Holiday,UN International Day
END:VEVENT
BEGIN:VEVENT
DTSTART;VALUE=DATE:20260421
DTEND;VALUE=DATE:20260422
DTSTAMP:20260419T175334
CREATED:20200704T185039Z
LAST-MODIFIED:20200704T185039Z
UID:19045-1776729600-1776815999@www.carpeglobal.com
SUMMARY:World Creativity and Innovation Day
DESCRIPTION:Today is the day to celebrate the creativity and brilliance of humanity! Appreciate artistic expression or learn more about the innovative problem-solving that has been essential to economic\, social\, and sustainable development or get creative yourself!
URL:https://www.carpeglobal.com/event/world-creativity-and-innovation-day/2026-04-21/
CATEGORIES:Celebration,UN International Day,World Celebration
END:VEVENT
BEGIN:VEVENT
DTSTART;VALUE=DATE:20260422
DTEND;VALUE=DATE:20260705
DTSTAMP:20260419T175334
CREATED:20200704T200919Z
LAST-MODIFIED:20200704T200919Z
UID:19046-1776816000-1783209599@www.carpeglobal.com
SUMMARY:International Mother Earth Day
DESCRIPTION:This International Day is a call to action for us to take care of Mother Nature. Climate change and man-mad changes are having a hugely negative effect on our planet and we need to be doing everything we can to protect human\, animal\, and environmental health.
URL:https://www.carpeglobal.com/event/international-mother-earth-day/2026-04-22/
CATEGORIES:Celebration,Educational Events,Global/International Education,UN International Day
END:VEVENT
BEGIN:VEVENT
DTSTART;VALUE=DATE:20260423
DTEND;VALUE=DATE:20260424
DTSTAMP:20260419T175334
CREATED:20200704T201442Z
LAST-MODIFIED:20200704T201442Z
UID:19047-1776902400-1776988799@www.carpeglobal.com
SUMMARY:World Book and Copyright Day
DESCRIPTION:Today is a day to celebrate the importance and joy of reading\, especially for children’s development and education! Let’s promote a love of literature and education in our future leaders!
URL:https://www.carpeglobal.com/event/world-book-and-copyright-day/2026-04-23/
CATEGORIES:Celebration,Educational Events,Global/International Education,UN International Day,World Celebration
END:VEVENT
BEGIN:VEVENT
DTSTART;VALUE=DATE:20260423
DTEND;VALUE=DATE:20260424
DTSTAMP:20260419T175334
CREATED:20200704T201724Z
LAST-MODIFIED:20200704T201724Z
UID:19048-1776902400-1776988799@www.carpeglobal.com
SUMMARY:English Language Day
DESCRIPTION:
URL:https://www.carpeglobal.com/event/english-language-day/2026-04-23/
CATEGORIES:Celebration,Educational Events,Global/International Education,UN International Day
END:VEVENT
BEGIN:VEVENT
DTSTART;VALUE=DATE:20260423
DTEND;VALUE=DATE:20260424
DTSTAMP:20260419T175334
CREATED:20200704T202031Z
LAST-MODIFIED:20200704T202031Z
UID:19049-1776902400-1776988799@www.carpeglobal.com
SUMMARY:Spanish Language Day (Da del Idioma Espaol en las Naciones Unidas)
DESCRIPTION:
URL:https://www.carpeglobal.com/event/spanish-language-day-dia-del-idioma-espanol-en-las-naciones-unidas/2026-04-23/
CATEGORIES:Celebration,Educational Events,Global/International Education,UN International Day
END:VEVENT
BEGIN:VEVENT
DTSTART;VALUE=DATE:20260423
DTEND;VALUE=DATE:20260424
DTSTAMP:20260419T175334
CREATED:20200704T203006Z
LAST-MODIFIED:20200704T203006Z
UID:19050-1776902400-1776988799@www.carpeglobal.com
SUMMARY:International Girls in ICT Day
DESCRIPTION:This International Day aims to create a global environment that empowers young girls and women to consider studies and careers in information and communication technologies. It is sponsored by the International Telecommunications Union (ITU).
URL:https://www.carpeglobal.com/event/international-girls-in-ict-day/2026-04-23/
CATEGORIES:Celebration,Educational Events,Global/International Education,UN International Day
END:VEVENT
BEGIN:VEVENT
DTSTART;VALUE=DATE:20260425
DTEND;VALUE=DATE:20260426
DTSTAMP:20260419T175334
CREATED:20200704T211612Z
LAST-MODIFIED:20200704T211612Z
UID:19051-1777075200-1777161599@www.carpeglobal.com
SUMMARY:International Delegates Day
DESCRIPTION:This International Day marks the anniversary of the UN Conference on International Organization on April 25th\, 1945 when delegates from 50 countries came together in San Francisco for the first time\, in response to the devastation of World War II.
URL:https://www.carpeglobal.com/event/international-delegates-day/2026-04-25/
CATEGORIES:Celebration,UN International Day,World Celebration
END:VEVENT
BEGIN:VEVENT
DTSTART;VALUE=DATE:20260425
DTEND;VALUE=DATE:20260426
DTSTAMP:20260419T175334
CREATED:20200704T212206Z
LAST-MODIFIED:20200704T212206Z
UID:19052-1777075200-1777161599@www.carpeglobal.com
SUMMARY:World Malaria Day
DESCRIPTION:This World Day aims to help communities take ownership of malaria prevention and care. In order to reduce suffering and death from malaria\, it is essential to have country and international leadership and collective action.
URL:https://www.carpeglobal.com/event/world-malaria-day/2026-04-25/
CATEGORIES:Celebration,Educational Events,Global/International Education,UN International Day
END:VEVENT
BEGIN:VEVENT
DTSTART;VALUE=DATE:20260426
DTEND;VALUE=DATE:20260427
DTSTAMP:20260419T175334
CREATED:20200704T213038Z
LAST-MODIFIED:20200704T213038Z
UID:19053-1777161600-1777247999@www.carpeglobal.com
SUMMARY:International Chernobyl Disaster Remembrance Day
DESCRIPTION:This International Day aims to recognize that the disaster at the Chernobyl Nuclear Power Plant has left persistent serious long-term consequences and that there are communities and territories that experiencing ongoing needs as a result of the radioactive exposure they experienced. These communities need support from international\, national\, and public programs focused on sustainable development.
URL:https://www.carpeglobal.com/event/international-chernobyl-disaster-remembrance-day/2026-04-26/
CATEGORIES:Celebration,Day of Remembrance,Educational Events,Global/International Education,UN International Day
END:VEVENT
BEGIN:VEVENT
DTSTART;VALUE=DATE:20260426
DTEND;VALUE=DATE:20260427
DTSTAMP:20260419T175334
CREATED:20200704T214400Z
LAST-MODIFIED:20200704T214400Z
UID:19054-1777161600-1777247999@www.carpeglobal.com
SUMMARY:World Intellectual Property Day
DESCRIPTION:Intellectual Property rights play an important role in innovation and creativity! We need creativity and innovation to solve the complex problems of today and intellectual property rights help protect and encourage that!
URL:https://www.carpeglobal.com/event/world-intellectual-property-day/2026-04-26/
CATEGORIES:Celebration,Educational Events,Global/International Education,UN International Day
END:VEVENT
BEGIN:VEVENT
DTSTART;VALUE=DATE:20260428
DTEND;VALUE=DATE:20260429
DTSTAMP:20260419T175334
CREATED:20200704T214835Z
LAST-MODIFIED:20200704T214835Z
UID:19055-1777334400-1777420799@www.carpeglobal.com
SUMMARY:World Day for Safety and Health at Work
DESCRIPTION:This World Day is observed by the International Labor Organization (ILO) to raise awareness about accidents and diseases at work and the importance of taking active measures for the prevention of accidents and the protection of workers.
URL:https://www.carpeglobal.com/event/world-day-for-safety-and-health-at-work/2026-04-28/
CATEGORIES:Celebration,Educational Events,Global/International Education,UN International Day
END:VEVENT
BEGIN:VEVENT
DTSTART;VALUE=DATE:20260428
DTEND;VALUE=DATE:20260429
DTSTAMP:20260419T175334
CREATED:20200704T214835Z
LAST-MODIFIED:20200704T214835Z
UID:19056-1777334400-1777420799@www.carpeglobal.com
SUMMARY:World Day for Safety and Health at Work
DESCRIPTION:This World Day is observed by the International Labor Organization (ILO) to raise awareness about accidents and diseases at work and the importance of taking active measures for the prevention of accidents and the protection of workers.
URL:https://www.carpeglobal.com/event/world-day-for-safety-and-health-at-work/2026-04-28/
CATEGORIES:Celebration,Educational Events,Global/International Education,UN International Day
END:VEVENT
BEGIN:VEVENT
DTSTART;VALUE=DATE:20260430
DTEND;VALUE=DATE:20260501
DTSTAMP:20260419T175334
CREATED:20200704T215339Z
LAST-MODIFIED:20200704T215339Z
UID:19057-1777507200-1777593599@www.carpeglobal.com
SUMMARY:International Jazz Day
DESCRIPTION:International Jazz Day aims to inform the international community of how jazz can work as a force for peace\, unity\, dialogue and enhanced cooperation among people\, as well as a tool for education.
URL:https://www.carpeglobal.com/event/international-jazz-day/2026-04-30/
CATEGORIES:Celebration,Educational Events,Global/International Education,Holiday,UN International Day,World Celebration
END:VEVENT
BEGIN:VEVENT
DTSTART;VALUE=DATE:20260430
DTEND;VALUE=DATE:20260501
DTSTAMP:20260419T175334
CREATED:20200704T215339Z
LAST-MODIFIED:20200704T215339Z
UID:19058-1777507200-1777593599@www.carpeglobal.com
SUMMARY:International Jazz Day
DESCRIPTION:International Jazz Day aims to inform the international community of how jazz can work as a force for peace\, unity\, dialogue and enhanced cooperation among people\, as well as a tool for education.
URL:https://www.carpeglobal.com/event/international-jazz-day/2026-04-30/
CATEGORIES:Celebration,Educational Events,Global/International Education,Holiday,UN International Day,World Celebration
END:VEVENT
END:VCALENDAR